BEGIN:VCALENDAR
VERSION:2.0
PRODID:-//Lappeenrannan Urheiluautoilijat Ry - ECPv6.15.20//NONSGML v1.0//EN
CALSCALE:GREGORIAN
METHOD:PUBLISH
X-ORIGINAL-URL:https://www.lprua.fi
X-WR-CALDESC:Tapahtumat Lappeenrannan Urheiluautoilijat Ry
REFRESH-INTERVAL;VALUE=DURATION:PT1H
X-Robots-Tag:noindex
X-PUBLISHED-TTL:PT1H
BEGIN:VTIMEZONE
TZID:Europe/Helsinki
BEGIN:DAYLIGHT
TZOFFSETFROM:+0200
TZOFFSETTO:+0300
TZNAME:EEST
DTSTART:20230326T010000
END:DAYLIGHT
BEGIN:STANDARD
TZOFFSETFROM:+0300
TZOFFSETTO:+0200
TZNAME:EET
DTSTART:20231029T010000
END:STANDARD
BEGIN:DAYLIGHT
TZOFFSETFROM:+0200
TZOFFSETTO:+0300
TZNAME:EEST
DTSTART:20240331T010000
END:DAYLIGHT
BEGIN:STANDARD
TZOFFSETFROM:+0300
TZOFFSETTO:+0200
TZNAME:EET
DTSTART:20241027T010000
END:STANDARD
BEGIN:DAYLIGHT
TZOFFSETFROM:+0200
TZOFFSETTO:+0300
TZNAME:EEST
DTSTART:20250330T010000
END:DAYLIGHT
BEGIN:STANDARD
TZOFFSETFROM:+0300
TZOFFSETTO:+0200
TZNAME:EET
DTSTART:20251026T010000
END:STANDARD
END:VTIMEZONE
BEGIN:VEVENT
DTSTART;VALUE=DATE:20240712
DTEND;VALUE=DATE:20240715
DTSTAMP:20260421T035112
CREATED:20240628T114628Z
LAST-MODIFIED:20240707T184211Z
UID:10000085-1720742400-1721001599@www.lprua.fi
SUMMARY:Karting SM Kimi Circuit
DESCRIPTION:Kotimaisen karting SM-sarjan 3. osakilpailu ajetaan Kimi Circuitilla heinäkuun puolessa välissä. \n\n\n\n\nMajoitusyhteistyötä tehdään mm. \n\nOriginal Sokos Hotel Lappee\nScandic Patria – varauskoodilla EVNT\nMyös omakotitalo Lauritsalassa 4-5 henkilölle on tarjolla vuokralle\n\nSarjan omat sivut Etusivu – Karting SM \nSarja alkoi toukokuun lopussa OuluZonessa. Sarjassa uutena luokkana S125 jossa ajetaan Rotax MAX senior ja IAME X30 senior luokitusten mukaisilla moottoreilla. \nTarkemmat säännöt s-125_saannot.pdf (autourheilu.fi) \n\n\n\n\n\n\n 
URL:https://www.lprua.fi/tapahtuma/karting-sm-kimi-circuit/
LOCATION:Kimi Circuit\, Kimintie 130\, Lappeenranta\, 53400
CATEGORIES:karting,kilpailut
ATTACH;FMTTYPE=image/png:https://www.lprua.fi/wp-content/uploads/2023/12/Karting-SM-2024.png
END:VEVENT
BEGIN:VEVENT
DTSTART;TZID=Europe/Helsinki:20240712T200000
DTEND;TZID=Europe/Helsinki:20240712T230000
DTSTAMP:20260421T035112
CREATED:20240712T163646Z
LAST-MODIFIED:20240712T164312Z
UID:10000104-1720814400-1720825200@www.lprua.fi
SUMMARY:Oletko lukenut kartingin säännöt?
DESCRIPTION:SM-kisat menossa\, osaatko jo kartingin säännöt?
URL:https://www.lprua.fi/tapahtuma/oletko-lukenut-kartingin-saannot/2024-07-12/
LOCATION:Kimi Circuit\, Kimintie 130\, Lappeenranta\, 53400
CATEGORIES:karting
ATTACH;FMTTYPE=image/png:https://www.lprua.fi/wp-content/uploads/2024/07/karting-lajisaannot-2024.png
END:VEVENT
BEGIN:VEVENT
DTSTART;TZID=Europe/Helsinki:20240712T200000
DTEND;TZID=Europe/Helsinki:20240712T230000
DTSTAMP:20260421T035112
CREATED:20250123T041624Z
LAST-MODIFIED:20250123T041646Z
UID:10000134-1720814400-1720825200@www.lprua.fi
SUMMARY:Oletko jo lukenut kartingin säännöt?
DESCRIPTION:Lumi peittänyt radan mutta osaatko jo kartingin säännöt? \nHyvä aika kerrata ja opiskella ennen lumien sulamista\, eikö vaan?
URL:https://www.lprua.fi/tapahtuma/oletko-lukenut-kartingin-saannot-2/2024-07-12/
LOCATION:Kimi Circuit\, Kimintie 130\, Lappeenranta\, 53400
CATEGORIES:karting
ATTACH;FMTTYPE=image/png:https://www.lprua.fi/wp-content/uploads/2024/07/karting-lajisaannot-2024.png
END:VEVENT
END:VCALENDAR