BEGIN:VCALENDAR
VERSION:2.0
PRODID:-//Lappeenrannan Urheiluautoilijat Ry - ECPv6.15.20//NONSGML v1.0//EN
CALSCALE:GREGORIAN
METHOD:PUBLISH
X-ORIGINAL-URL:https://www.lprua.fi
X-WR-CALDESC:Tapahtumat Lappeenrannan Urheiluautoilijat Ry
REFRESH-INTERVAL;VALUE=DURATION:PT1H
X-Robots-Tag:noindex
X-PUBLISHED-TTL:PT1H
BEGIN:VTIMEZONE
TZID:Europe/Helsinki
BEGIN:DAYLIGHT
TZOFFSETFROM:+0200
TZOFFSETTO:+0300
TZNAME:EEST
DTSTART:20220327T010000
END:DAYLIGHT
BEGIN:STANDARD
TZOFFSETFROM:+0300
TZOFFSETTO:+0200
TZNAME:EET
DTSTART:20221030T010000
END:STANDARD
BEGIN:DAYLIGHT
TZOFFSETFROM:+0200
TZOFFSETTO:+0300
TZNAME:EEST
DTSTART:20230326T010000
END:DAYLIGHT
BEGIN:STANDARD
TZOFFSETFROM:+0300
TZOFFSETTO:+0200
TZNAME:EET
DTSTART:20231029T010000
END:STANDARD
BEGIN:DAYLIGHT
TZOFFSETFROM:+0200
TZOFFSETTO:+0300
TZNAME:EEST
DTSTART:20240331T010000
END:DAYLIGHT
BEGIN:STANDARD
TZOFFSETFROM:+0300
TZOFFSETTO:+0200
TZNAME:EET
DTSTART:20241027T010000
END:STANDARD
END:VTIMEZONE
BEGIN:VEVENT
DTSTART;TZID=Europe/Helsinki:20230703T080000
DTEND;TZID=Europe/Helsinki:20230703T200000
DTSTAMP:20260423T185242
CREATED:20230522T094840Z
LAST-MODIFIED:20230813T050910Z
UID:10000048-1688371200-1688414400@www.lprua.fi
SUMMARY:Moottoripyörät
DESCRIPTION:Moottoripyöräpäivä\, ajo sallittu vain moottoripyörille. \nPäivän koordinointi LrMP
URL:https://www.lprua.fi/tapahtuma/moottoripyorat/2023-07-03/
LOCATION:Kimi Circuit\, Kimintie 130\, Lappeenranta\, 53400
END:VEVENT
BEGIN:VEVENT
DTSTART;TZID=Europe/Helsinki:20230704T180000
DTEND;TZID=Europe/Helsinki:20230704T200000
DTSTAMP:20260423T185242
CREATED:20230522T095601Z
LAST-MODIFIED:20230813T041626Z
UID:10000071-1688493600-1688500800@www.lprua.fi
SUMMARY:Lasten kerhoilta
DESCRIPTION:Lasten karting kerhoillat tiistaisin klo 18 – 20.\nSäävaraus – sateella ei ajeta. \nTervetuloa kokeilemaan karting autolla ajoa (noin 4 – 13 vuotiaat tytöt / pojat).\nJaostolla useita erikokoisia autoja.\nVaatetus: pitkähihainen pusero\, pitkät housut / haalari\, hanskat ja nilkkaa suojaavat kengät\nKypärät löytyy radalta\, oman kypärän käyttö on sallittu. \nMaksut: kertamaksu 25 € / 20 € (LprUA jäsenet) – Nyt myös korttimaksut mahdollisia\, sisältää vakuutuksen.\nHuoltajan on oltava ehdottomasti mukana!
URL:https://www.lprua.fi/tapahtuma/lasten-kerhoilta/2023-07-04/
LOCATION:Kimi Circuit\, Kimintie 130\, Lappeenranta\, 53400
CATEGORIES:karting
ATTACH;FMTTYPE=image/jpeg:https://www.lprua.fi/wp-content/uploads/2022/05/20190611_185730-2.jpg
END:VEVENT
BEGIN:VEVENT
DTSTART;TZID=Europe/Helsinki:20230710T080000
DTEND;TZID=Europe/Helsinki:20230710T200000
DTSTAMP:20260423T185242
CREATED:20230522T094840Z
LAST-MODIFIED:20230813T050910Z
UID:10000049-1688976000-1689019200@www.lprua.fi
SUMMARY:Moottoripyörät
DESCRIPTION:Moottoripyöräpäivä\, ajo sallittu vain moottoripyörille. \nPäivän koordinointi LrMP
URL:https://www.lprua.fi/tapahtuma/moottoripyorat/2023-07-10/
LOCATION:Kimi Circuit\, Kimintie 130\, Lappeenranta\, 53400
END:VEVENT
BEGIN:VEVENT
DTSTART;TZID=Europe/Helsinki:20230711T180000
DTEND;TZID=Europe/Helsinki:20230711T200000
DTSTAMP:20260423T185242
CREATED:20230522T095601Z
LAST-MODIFIED:20230813T041626Z
UID:10000072-1689098400-1689105600@www.lprua.fi
SUMMARY:Lasten kerhoilta
DESCRIPTION:Lasten karting kerhoillat tiistaisin klo 18 – 20.\nSäävaraus – sateella ei ajeta. \nTervetuloa kokeilemaan karting autolla ajoa (noin 4 – 13 vuotiaat tytöt / pojat).\nJaostolla useita erikokoisia autoja.\nVaatetus: pitkähihainen pusero\, pitkät housut / haalari\, hanskat ja nilkkaa suojaavat kengät\nKypärät löytyy radalta\, oman kypärän käyttö on sallittu. \nMaksut: kertamaksu 25 € / 20 € (LprUA jäsenet) – Nyt myös korttimaksut mahdollisia\, sisältää vakuutuksen.\nHuoltajan on oltava ehdottomasti mukana!
URL:https://www.lprua.fi/tapahtuma/lasten-kerhoilta/2023-07-11/
LOCATION:Kimi Circuit\, Kimintie 130\, Lappeenranta\, 53400
CATEGORIES:karting
ATTACH;FMTTYPE=image/jpeg:https://www.lprua.fi/wp-content/uploads/2022/05/20190611_185730-2.jpg
END:VEVENT
BEGIN:VEVENT
DTSTART;TZID=Europe/Helsinki:20230717T080000
DTEND;TZID=Europe/Helsinki:20230717T200000
DTSTAMP:20260423T185242
CREATED:20230522T094840Z
LAST-MODIFIED:20230813T050910Z
UID:10000050-1689580800-1689624000@www.lprua.fi
SUMMARY:Moottoripyörät
DESCRIPTION:Moottoripyöräpäivä\, ajo sallittu vain moottoripyörille. \nPäivän koordinointi LrMP
URL:https://www.lprua.fi/tapahtuma/moottoripyorat/2023-07-17/
LOCATION:Kimi Circuit\, Kimintie 130\, Lappeenranta\, 53400
END:VEVENT
BEGIN:VEVENT
DTSTART;TZID=Europe/Helsinki:20230718T180000
DTEND;TZID=Europe/Helsinki:20230718T200000
DTSTAMP:20260423T185242
CREATED:20230522T095601Z
LAST-MODIFIED:20230813T041626Z
UID:10000073-1689703200-1689710400@www.lprua.fi
SUMMARY:Lasten kerhoilta
DESCRIPTION:Lasten karting kerhoillat tiistaisin klo 18 – 20.\nSäävaraus – sateella ei ajeta. \nTervetuloa kokeilemaan karting autolla ajoa (noin 4 – 13 vuotiaat tytöt / pojat).\nJaostolla useita erikokoisia autoja.\nVaatetus: pitkähihainen pusero\, pitkät housut / haalari\, hanskat ja nilkkaa suojaavat kengät\nKypärät löytyy radalta\, oman kypärän käyttö on sallittu. \nMaksut: kertamaksu 25 € / 20 € (LprUA jäsenet) – Nyt myös korttimaksut mahdollisia\, sisältää vakuutuksen.\nHuoltajan on oltava ehdottomasti mukana!
URL:https://www.lprua.fi/tapahtuma/lasten-kerhoilta/2023-07-18/
LOCATION:Kimi Circuit\, Kimintie 130\, Lappeenranta\, 53400
CATEGORIES:karting
ATTACH;FMTTYPE=image/jpeg:https://www.lprua.fi/wp-content/uploads/2022/05/20190611_185730-2.jpg
END:VEVENT
BEGIN:VEVENT
DTSTART;TZID=Europe/Helsinki:20230719T180000
DTEND;TZID=Europe/Helsinki:20230719T200000
DTSTAMP:20260423T185242
CREATED:20230719T130912Z
LAST-MODIFIED:20230719T131110Z
UID:10000082-1689789600-1689796800@www.lprua.fi
SUMMARY:Ratatalkoot
DESCRIPTION:Karting SM kisat lähestyvät ja vielä on pientä puuhaa jotta saadaan rata-alue edustuskuntoon. \nPuuston ja pensaiden raivausta\, nurmialueiden siistimistä\, katsomon ehostus\, kanttareiden maalausta ynnä muuta pientä.
URL:https://www.lprua.fi/tapahtuma/ratatalkoot/2023-07-19/
LOCATION:Kimi Circuit\, Kimintie 130\, Lappeenranta\, 53400
CATEGORIES:talkoot
END:VEVENT
BEGIN:VEVENT
DTSTART;TZID=Europe/Helsinki:20230723T120000
DTEND;TZID=Europe/Helsinki:20230723T170000
DTSTAMP:20260423T185242
CREATED:20230719T130912Z
LAST-MODIFIED:20230719T131110Z
UID:10000083-1690113600-1690131600@www.lprua.fi
SUMMARY:Ratatalkoot
DESCRIPTION:Karting SM kisat lähestyvät ja vielä on pientä puuhaa jotta saadaan rata-alue edustuskuntoon. \nPuuston ja pensaiden raivausta\, nurmialueiden siistimistä\, katsomon ehostus\, kanttareiden maalausta ynnä muuta pientä.
URL:https://www.lprua.fi/tapahtuma/ratatalkoot/2023-07-23/
LOCATION:Kimi Circuit\, Kimintie 130\, Lappeenranta\, 53400
CATEGORIES:talkoot
END:VEVENT
BEGIN:VEVENT
DTSTART;TZID=Europe/Helsinki:20230724T080000
DTEND;TZID=Europe/Helsinki:20230724T200000
DTSTAMP:20260423T185242
CREATED:20230522T094840Z
LAST-MODIFIED:20230813T050910Z
UID:10000051-1690185600-1690228800@www.lprua.fi
SUMMARY:Moottoripyörät
DESCRIPTION:Moottoripyöräpäivä\, ajo sallittu vain moottoripyörille. \nPäivän koordinointi LrMP
URL:https://www.lprua.fi/tapahtuma/moottoripyorat/2023-07-24/
LOCATION:Kimi Circuit\, Kimintie 130\, Lappeenranta\, 53400
END:VEVENT
BEGIN:VEVENT
DTSTART;TZID=Europe/Helsinki:20230725T180000
DTEND;TZID=Europe/Helsinki:20230725T200000
DTSTAMP:20260423T185242
CREATED:20230522T095601Z
LAST-MODIFIED:20230813T041626Z
UID:10000074-1690308000-1690315200@www.lprua.fi
SUMMARY:Lasten kerhoilta
DESCRIPTION:Lasten karting kerhoillat tiistaisin klo 18 – 20.\nSäävaraus – sateella ei ajeta. \nTervetuloa kokeilemaan karting autolla ajoa (noin 4 – 13 vuotiaat tytöt / pojat).\nJaostolla useita erikokoisia autoja.\nVaatetus: pitkähihainen pusero\, pitkät housut / haalari\, hanskat ja nilkkaa suojaavat kengät\nKypärät löytyy radalta\, oman kypärän käyttö on sallittu. \nMaksut: kertamaksu 25 € / 20 € (LprUA jäsenet) – Nyt myös korttimaksut mahdollisia\, sisältää vakuutuksen.\nHuoltajan on oltava ehdottomasti mukana!
URL:https://www.lprua.fi/tapahtuma/lasten-kerhoilta/2023-07-25/
LOCATION:Kimi Circuit\, Kimintie 130\, Lappeenranta\, 53400
CATEGORIES:karting
ATTACH;FMTTYPE=image/jpeg:https://www.lprua.fi/wp-content/uploads/2022/05/20190611_185730-2.jpg
END:VEVENT
BEGIN:VEVENT
DTSTART;TZID=Europe/Helsinki:20230731T080000
DTEND;TZID=Europe/Helsinki:20230731T200000
DTSTAMP:20260423T185242
CREATED:20230522T094840Z
LAST-MODIFIED:20230813T050910Z
UID:10000052-1690790400-1690833600@www.lprua.fi
SUMMARY:Moottoripyörät
DESCRIPTION:Moottoripyöräpäivä\, ajo sallittu vain moottoripyörille. \nPäivän koordinointi LrMP
URL:https://www.lprua.fi/tapahtuma/moottoripyorat/2023-07-31/
LOCATION:Kimi Circuit\, Kimintie 130\, Lappeenranta\, 53400
END:VEVENT
END:VCALENDAR