BEGIN:VCALENDAR
VERSION:2.0
PRODID:-//Lappeenrannan Urheiluautoilijat Ry - ECPv6.15.20//NONSGML v1.0//EN
CALSCALE:GREGORIAN
METHOD:PUBLISH
X-ORIGINAL-URL:https://www.lprua.fi
X-WR-CALDESC:Tapahtumat Lappeenrannan Urheiluautoilijat Ry
REFRESH-INTERVAL;VALUE=DURATION:PT1H
X-Robots-Tag:noindex
X-PUBLISHED-TTL:PT1H
BEGIN:VTIMEZONE
TZID:Europe/Helsinki
BEGIN:DAYLIGHT
TZOFFSETFROM:+0200
TZOFFSETTO:+0300
TZNAME:EEST
DTSTART:20220327T010000
END:DAYLIGHT
BEGIN:STANDARD
TZOFFSETFROM:+0300
TZOFFSETTO:+0200
TZNAME:EET
DTSTART:20221030T010000
END:STANDARD
BEGIN:DAYLIGHT
TZOFFSETFROM:+0200
TZOFFSETTO:+0300
TZNAME:EEST
DTSTART:20230326T010000
END:DAYLIGHT
BEGIN:STANDARD
TZOFFSETFROM:+0300
TZOFFSETTO:+0200
TZNAME:EET
DTSTART:20231029T010000
END:STANDARD
BEGIN:DAYLIGHT
TZOFFSETFROM:+0200
TZOFFSETTO:+0300
TZNAME:EEST
DTSTART:20240331T010000
END:DAYLIGHT
BEGIN:STANDARD
TZOFFSETFROM:+0300
TZOFFSETTO:+0200
TZNAME:EET
DTSTART:20241027T010000
END:STANDARD
END:VTIMEZONE
BEGIN:VEVENT
DTSTART;TZID=Europe/Helsinki:20230801T180000
DTEND;TZID=Europe/Helsinki:20230801T200000
DTSTAMP:20260423T165436
CREATED:20230522T095601Z
LAST-MODIFIED:20230813T041626Z
UID:10000075-1690912800-1690920000@www.lprua.fi
SUMMARY:Lasten kerhoilta
DESCRIPTION:Lasten karting kerhoillat tiistaisin klo 18 – 20.\nSäävaraus – sateella ei ajeta. \nTervetuloa kokeilemaan karting autolla ajoa (noin 4 – 13 vuotiaat tytöt / pojat).\nJaostolla useita erikokoisia autoja.\nVaatetus: pitkähihainen pusero\, pitkät housut / haalari\, hanskat ja nilkkaa suojaavat kengät\nKypärät löytyy radalta\, oman kypärän käyttö on sallittu. \nMaksut: kertamaksu 25 € / 20 € (LprUA jäsenet) – Nyt myös korttimaksut mahdollisia\, sisältää vakuutuksen.\nHuoltajan on oltava ehdottomasti mukana!
URL:https://www.lprua.fi/tapahtuma/lasten-kerhoilta/2023-08-01/
LOCATION:Kimi Circuit\, Kimintie 130\, Lappeenranta\, 53400
CATEGORIES:karting
ATTACH;FMTTYPE=image/jpeg:https://www.lprua.fi/wp-content/uploads/2022/05/20190611_185730-2.jpg
END:VEVENT
BEGIN:VEVENT
DTSTART;TZID=Europe/Helsinki:20230807T080000
DTEND;TZID=Europe/Helsinki:20230807T200000
DTSTAMP:20260423T165436
CREATED:20230522T094840Z
LAST-MODIFIED:20230813T050910Z
UID:10000053-1691395200-1691438400@www.lprua.fi
SUMMARY:Moottoripyörät
DESCRIPTION:Moottoripyöräpäivä\, ajo sallittu vain moottoripyörille. \nPäivän koordinointi LrMP
URL:https://www.lprua.fi/tapahtuma/moottoripyorat/2023-08-07/
LOCATION:Kimi Circuit\, Kimintie 130\, Lappeenranta\, 53400
END:VEVENT
BEGIN:VEVENT
DTSTART;TZID=Europe/Helsinki:20230808T180000
DTEND;TZID=Europe/Helsinki:20230808T200000
DTSTAMP:20260423T165436
CREATED:20230522T095601Z
LAST-MODIFIED:20230813T041626Z
UID:10000076-1691517600-1691524800@www.lprua.fi
SUMMARY:Lasten kerhoilta
DESCRIPTION:Lasten karting kerhoillat tiistaisin klo 18 – 20.\nSäävaraus – sateella ei ajeta. \nTervetuloa kokeilemaan karting autolla ajoa (noin 4 – 13 vuotiaat tytöt / pojat).\nJaostolla useita erikokoisia autoja.\nVaatetus: pitkähihainen pusero\, pitkät housut / haalari\, hanskat ja nilkkaa suojaavat kengät\nKypärät löytyy radalta\, oman kypärän käyttö on sallittu. \nMaksut: kertamaksu 25 € / 20 € (LprUA jäsenet) – Nyt myös korttimaksut mahdollisia\, sisältää vakuutuksen.\nHuoltajan on oltava ehdottomasti mukana!
URL:https://www.lprua.fi/tapahtuma/lasten-kerhoilta/2023-08-08/
LOCATION:Kimi Circuit\, Kimintie 130\, Lappeenranta\, 53400
CATEGORIES:karting
ATTACH;FMTTYPE=image/jpeg:https://www.lprua.fi/wp-content/uploads/2022/05/20190611_185730-2.jpg
END:VEVENT
BEGIN:VEVENT
DTSTART;VALUE=DATE:20230811
DTEND;VALUE=DATE:20230814
DTSTAMP:20260423T165436
CREATED:20230423T182650Z
LAST-MODIFIED:20230813T042934Z
UID:10000008-1691712000-1691971199@www.lprua.fi
SUMMARY:SM-karting
DESCRIPTION:www.kartingsm.fi osakilpailu Lappeenrannassa. \nLive striimi la 13.8. ja su 14.8. kisoihin
URL:https://www.lprua.fi/tapahtuma/sm-karting/
LOCATION:Kimi Circuit\, Kimintie 130\, Lappeenranta\, 53400
CATEGORIES:karting,kilpailut
ATTACH;FMTTYPE=image/png:https://www.lprua.fi/wp-content/uploads/2022/05/logo_clean-e1682172194819.png
END:VEVENT
BEGIN:VEVENT
DTSTART;VALUE=DATE:20230812
DTEND;VALUE=DATE:20230814
DTSTAMP:20260423T165436
CREATED:20230811T091631Z
LAST-MODIFIED:20230813T042924Z
UID:10000084-1691798400-1691971199@www.lprua.fi
SUMMARY:Youtube - lähetykset la 12.8. ja su 13.8.2023
DESCRIPTION:www.kartingsm.fi osakilpailu Lappeenrannassa. \nLive striimi la 13.8. ja su 14.8. kisoihin
URL:https://www.lprua.fi/tapahtuma/youtube-lahetykset-la-12-8-ja-su-13-8-2023/
LOCATION:Kimi Circuit\, Kimintie 130\, Lappeenranta\, 53400
CATEGORIES:karting,kilpailut
ATTACH;FMTTYPE=image/png:https://www.lprua.fi/wp-content/uploads/2023/08/youtube-lahetykset-12-13-8-2023.png
END:VEVENT
BEGIN:VEVENT
DTSTART;TZID=Europe/Helsinki:20230814T080000
DTEND;TZID=Europe/Helsinki:20230814T200000
DTSTAMP:20260423T165436
CREATED:20230522T094840Z
LAST-MODIFIED:20230813T050910Z
UID:10000054-1692000000-1692043200@www.lprua.fi
SUMMARY:Moottoripyörät
DESCRIPTION:Moottoripyöräpäivä\, ajo sallittu vain moottoripyörille. \nPäivän koordinointi LrMP
URL:https://www.lprua.fi/tapahtuma/moottoripyorat/2023-08-14/
LOCATION:Kimi Circuit\, Kimintie 130\, Lappeenranta\, 53400
END:VEVENT
BEGIN:VEVENT
DTSTART;TZID=Europe/Helsinki:20230815T180000
DTEND;TZID=Europe/Helsinki:20230815T200000
DTSTAMP:20260423T165436
CREATED:20230522T095601Z
LAST-MODIFIED:20230813T041626Z
UID:10000077-1692122400-1692129600@www.lprua.fi
SUMMARY:Lasten kerhoilta
DESCRIPTION:Lasten karting kerhoillat tiistaisin klo 18 – 20.\nSäävaraus – sateella ei ajeta. \nTervetuloa kokeilemaan karting autolla ajoa (noin 4 – 13 vuotiaat tytöt / pojat).\nJaostolla useita erikokoisia autoja.\nVaatetus: pitkähihainen pusero\, pitkät housut / haalari\, hanskat ja nilkkaa suojaavat kengät\nKypärät löytyy radalta\, oman kypärän käyttö on sallittu. \nMaksut: kertamaksu 25 € / 20 € (LprUA jäsenet) – Nyt myös korttimaksut mahdollisia\, sisältää vakuutuksen.\nHuoltajan on oltava ehdottomasti mukana!
URL:https://www.lprua.fi/tapahtuma/lasten-kerhoilta/2023-08-15/
LOCATION:Kimi Circuit\, Kimintie 130\, Lappeenranta\, 53400
CATEGORIES:karting
ATTACH;FMTTYPE=image/jpeg:https://www.lprua.fi/wp-content/uploads/2022/05/20190611_185730-2.jpg
END:VEVENT
BEGIN:VEVENT
DTSTART;TZID=Europe/Helsinki:20230821T080000
DTEND;TZID=Europe/Helsinki:20230821T200000
DTSTAMP:20260423T165436
CREATED:20230522T094840Z
LAST-MODIFIED:20230813T050910Z
UID:10000055-1692604800-1692648000@www.lprua.fi
SUMMARY:Moottoripyörät
DESCRIPTION:Moottoripyöräpäivä\, ajo sallittu vain moottoripyörille. \nPäivän koordinointi LrMP
URL:https://www.lprua.fi/tapahtuma/moottoripyorat/2023-08-21/
LOCATION:Kimi Circuit\, Kimintie 130\, Lappeenranta\, 53400
END:VEVENT
BEGIN:VEVENT
DTSTART;TZID=Europe/Helsinki:20230822T180000
DTEND;TZID=Europe/Helsinki:20230822T200000
DTSTAMP:20260423T165436
CREATED:20230522T095601Z
LAST-MODIFIED:20230813T041626Z
UID:10000078-1692727200-1692734400@www.lprua.fi
SUMMARY:Lasten kerhoilta
DESCRIPTION:Lasten karting kerhoillat tiistaisin klo 18 – 20.\nSäävaraus – sateella ei ajeta. \nTervetuloa kokeilemaan karting autolla ajoa (noin 4 – 13 vuotiaat tytöt / pojat).\nJaostolla useita erikokoisia autoja.\nVaatetus: pitkähihainen pusero\, pitkät housut / haalari\, hanskat ja nilkkaa suojaavat kengät\nKypärät löytyy radalta\, oman kypärän käyttö on sallittu. \nMaksut: kertamaksu 25 € / 20 € (LprUA jäsenet) – Nyt myös korttimaksut mahdollisia\, sisältää vakuutuksen.\nHuoltajan on oltava ehdottomasti mukana!
URL:https://www.lprua.fi/tapahtuma/lasten-kerhoilta/2023-08-22/
LOCATION:Kimi Circuit\, Kimintie 130\, Lappeenranta\, 53400
CATEGORIES:karting
ATTACH;FMTTYPE=image/jpeg:https://www.lprua.fi/wp-content/uploads/2022/05/20190611_185730-2.jpg
END:VEVENT
BEGIN:VEVENT
DTSTART;TZID=Europe/Helsinki:20230828T080000
DTEND;TZID=Europe/Helsinki:20230828T200000
DTSTAMP:20260423T165436
CREATED:20230522T094840Z
LAST-MODIFIED:20230813T050910Z
UID:10000056-1693209600-1693252800@www.lprua.fi
SUMMARY:Moottoripyörät
DESCRIPTION:Moottoripyöräpäivä\, ajo sallittu vain moottoripyörille. \nPäivän koordinointi LrMP
URL:https://www.lprua.fi/tapahtuma/moottoripyorat/2023-08-28/
LOCATION:Kimi Circuit\, Kimintie 130\, Lappeenranta\, 53400
END:VEVENT
BEGIN:VEVENT
DTSTART;TZID=Europe/Helsinki:20230829T180000
DTEND;TZID=Europe/Helsinki:20230829T200000
DTSTAMP:20260423T165436
CREATED:20230522T095601Z
LAST-MODIFIED:20230813T041626Z
UID:10000079-1693332000-1693339200@www.lprua.fi
SUMMARY:Lasten kerhoilta
DESCRIPTION:Lasten karting kerhoillat tiistaisin klo 18 – 20.\nSäävaraus – sateella ei ajeta. \nTervetuloa kokeilemaan karting autolla ajoa (noin 4 – 13 vuotiaat tytöt / pojat).\nJaostolla useita erikokoisia autoja.\nVaatetus: pitkähihainen pusero\, pitkät housut / haalari\, hanskat ja nilkkaa suojaavat kengät\nKypärät löytyy radalta\, oman kypärän käyttö on sallittu. \nMaksut: kertamaksu 25 € / 20 € (LprUA jäsenet) – Nyt myös korttimaksut mahdollisia\, sisältää vakuutuksen.\nHuoltajan on oltava ehdottomasti mukana!
URL:https://www.lprua.fi/tapahtuma/lasten-kerhoilta/2023-08-29/
LOCATION:Kimi Circuit\, Kimintie 130\, Lappeenranta\, 53400
CATEGORIES:karting
ATTACH;FMTTYPE=image/jpeg:https://www.lprua.fi/wp-content/uploads/2022/05/20190611_185730-2.jpg
END:VEVENT
END:VCALENDAR