BEGIN:VCALENDAR
VERSION:2.0
PRODID:-//Lappeenrannan Urheiluautoilijat Ry - ECPv6.15.20//NONSGML v1.0//EN
CALSCALE:GREGORIAN
METHOD:PUBLISH
X-WR-CALNAME:Lappeenrannan Urheiluautoilijat Ry
X-ORIGINAL-URL:https://www.lprua.fi
X-WR-CALDESC:Tapahtumat Lappeenrannan Urheiluautoilijat Ry
REFRESH-INTERVAL;VALUE=DURATION:PT1H
X-Robots-Tag:noindex
X-PUBLISHED-TTL:PT1H
BEGIN:VTIMEZONE
TZID:Europe/Helsinki
BEGIN:DAYLIGHT
TZOFFSETFROM:+0200
TZOFFSETTO:+0300
TZNAME:EEST
DTSTART:20240331T010000
END:DAYLIGHT
BEGIN:STANDARD
TZOFFSETFROM:+0300
TZOFFSETTO:+0200
TZNAME:EET
DTSTART:20241027T010000
END:STANDARD
BEGIN:DAYLIGHT
TZOFFSETFROM:+0200
TZOFFSETTO:+0300
TZNAME:EEST
DTSTART:20250330T010000
END:DAYLIGHT
BEGIN:STANDARD
TZOFFSETFROM:+0300
TZOFFSETTO:+0200
TZNAME:EET
DTSTART:20251026T010000
END:STANDARD
BEGIN:DAYLIGHT
TZOFFSETFROM:+0200
TZOFFSETTO:+0300
TZNAME:EEST
DTSTART:20260329T010000
END:DAYLIGHT
BEGIN:STANDARD
TZOFFSETFROM:+0300
TZOFFSETTO:+0200
TZNAME:EET
DTSTART:20261025T010000
END:STANDARD
END:VTIMEZONE
BEGIN:VEVENT
DTSTART;VALUE=DATE:20250602
DTEND;VALUE=DATE:20250603
DTSTAMP:20260420T044225
CREATED:20250426T064833Z
LAST-MODIFIED:20251030T185339Z
UID:10000144-1748822400-1748908799@www.lprua.fi
SUMMARY:Maanantaisin radalla ajavat moottoripyörät
DESCRIPTION:Maanantaisin radalla ajavat moottoripyörät\, päivän koordinointi LrMP:n kautta. \n 
URL:https://www.lprua.fi/tapahtuma/maanantaisin-radalla-ajavat-moottoripyorat/2025-06-02/
LOCATION:Kimi Circuit\, Kimintie 130\, Lappeenranta\, 53400
CATEGORIES:Moottoripyörät
ATTACH;FMTTYPE=image/png:https://www.lprua.fi/wp-content/uploads/2023/04/Supoermoto-e1721728712936.png
END:VEVENT
BEGIN:VEVENT
DTSTART;TZID=Europe/Helsinki:20250603T180000
DTEND;TZID=Europe/Helsinki:20250603T200000
DTSTAMP:20260420T044225
CREATED:20250528T091336Z
LAST-MODIFIED:20251030T185423Z
UID:10000216-1748973600-1748980800@www.lprua.fi
SUMMARY:Lasten kerhoilta
DESCRIPTION:Tervetuloa tutustumaan karting harrastukseen ja kokeilemaan karting autolla ajoa (noin 4 – 13 vuotiaat tytöt / pojat).\nRajoituksena kuljettajan tulee mahtua lasten karting autoon ja ylettyä polkimille.\nJaostolla useita erikokoisia autoja.\nKerhoillat tiistaisin klo 18 – 20 koko kesän ajan säävarauksella\, sateella emme aja.\nPoikkeuksena tiistai 10.6.2025 jolloin radalla on Kymi Cup harjoituskilpailu. \nKerhoillat on tarkoitettu lapsille ja heidän huoltajille yhteiseksi tapahtumaksi. \nVaatetus: pitkähihainen pusero\, pitkät housut / haalari\, hanskat ja nilkkaa suojaavat kengät\nKypärät löytyy radalta\, oman kypärän käyttö on sallittu. \nMaksut: kertamaksu per ilta 25 € / 20 € (LprUA jäsenet) – Käteis- ja korttimaksut mahdollisia\, sisältää vakuutuksen.\nHuoltajan on oltava ehdottomasti mukana!
URL:https://www.lprua.fi/tapahtuma/lasten-kerhoilta-2/2025-06-03/
LOCATION:Kimi Circuit\, Kimintie 130\, Lappeenranta\, 53400
CATEGORIES:karting
ATTACH;FMTTYPE=image/jpeg:https://www.lprua.fi/wp-content/uploads/2021/09/20210727_192025-scaled-e1716469614328.jpg
END:VEVENT
BEGIN:VEVENT
DTSTART;VALUE=DATE:20250609
DTEND;VALUE=DATE:20250610
DTSTAMP:20260420T044225
CREATED:20250426T064833Z
LAST-MODIFIED:20251030T185339Z
UID:10000145-1749427200-1749513599@www.lprua.fi
SUMMARY:Maanantaisin radalla ajavat moottoripyörät
DESCRIPTION:Maanantaisin radalla ajavat moottoripyörät\, päivän koordinointi LrMP:n kautta. \n 
URL:https://www.lprua.fi/tapahtuma/maanantaisin-radalla-ajavat-moottoripyorat/2025-06-09/
LOCATION:Kimi Circuit\, Kimintie 130\, Lappeenranta\, 53400
CATEGORIES:Moottoripyörät
ATTACH;FMTTYPE=image/png:https://www.lprua.fi/wp-content/uploads/2023/04/Supoermoto-e1721728712936.png
END:VEVENT
BEGIN:VEVENT
DTSTART;TZID=Europe/Helsinki:20250610T160000
DTEND;TZID=Europe/Helsinki:20250610T200000
DTSTAMP:20260420T044225
CREATED:20250528T074927Z
LAST-MODIFIED:20250528T140745Z
UID:10000215-1749571200-1749585600@www.lprua.fi
SUMMARY:Kymi Cup 2025 - Lappeenranta
DESCRIPTION:Kymi Cup 2025 sarjan avaus harjoituskilpailu
URL:https://www.lprua.fi/tapahtuma/kymi-cup-2025-lappeenranta/
LOCATION:Kimi Circuit\, Kimintie 130\, Lappeenranta\, 53400
CATEGORIES:karting,kilpailu
ATTACH;FMTTYPE=image/jpeg:https://www.lprua.fi/wp-content/uploads/2022/06/KymiCup-vari.jpg
END:VEVENT
BEGIN:VEVENT
DTSTART;TZID=Europe/Helsinki:20250613T080000
DTEND;TZID=Europe/Helsinki:20250615T170000
DTSTAMP:20260420T044225
CREATED:20250528T140408Z
LAST-MODIFIED:20250528T140714Z
UID:10000281-1749801600-1750006800@www.lprua.fi
SUMMARY:Flying Finn Juniori Cup
DESCRIPTION:Valtakunnallisen Flying Finn Juniori Cupin osakilpailut Kimi Circuitilla.\nKilpailu on samalla Karting liiton mestaruuskilpailun osakilpailu. \nKilpailuluokat\nCadet\, 6v ylöspäin\nMicro\, 8-11v\nRaket\, 10-15v \n 
URL:https://www.lprua.fi/tapahtuma/flying-finn-juniori-cup/
LOCATION:Kimi Circuit\, Kimintie 130\, Lappeenranta\, 53400
CATEGORIES:karting,kilpailu
ATTACH;FMTTYPE=image/jpeg:https://www.lprua.fi/wp-content/uploads/2025/05/ff-logo_final_2-1.jpg
END:VEVENT
BEGIN:VEVENT
DTSTART;VALUE=DATE:20250616
DTEND;VALUE=DATE:20250617
DTSTAMP:20260420T044225
CREATED:20250426T064833Z
LAST-MODIFIED:20251030T185339Z
UID:10000146-1750032000-1750118399@www.lprua.fi
SUMMARY:Maanantaisin radalla ajavat moottoripyörät
DESCRIPTION:Maanantaisin radalla ajavat moottoripyörät\, päivän koordinointi LrMP:n kautta. \n 
URL:https://www.lprua.fi/tapahtuma/maanantaisin-radalla-ajavat-moottoripyorat/2025-06-16/
LOCATION:Kimi Circuit\, Kimintie 130\, Lappeenranta\, 53400
CATEGORIES:Moottoripyörät
ATTACH;FMTTYPE=image/png:https://www.lprua.fi/wp-content/uploads/2023/04/Supoermoto-e1721728712936.png
END:VEVENT
BEGIN:VEVENT
DTSTART;TZID=Europe/Helsinki:20250617T180000
DTEND;TZID=Europe/Helsinki:20250617T200000
DTSTAMP:20260420T044225
CREATED:20250528T091336Z
LAST-MODIFIED:20251030T185423Z
UID:10000217-1750183200-1750190400@www.lprua.fi
SUMMARY:Lasten kerhoilta
DESCRIPTION:Tervetuloa tutustumaan karting harrastukseen ja kokeilemaan karting autolla ajoa (noin 4 – 13 vuotiaat tytöt / pojat).\nRajoituksena kuljettajan tulee mahtua lasten karting autoon ja ylettyä polkimille.\nJaostolla useita erikokoisia autoja.\nKerhoillat tiistaisin klo 18 – 20 koko kesän ajan säävarauksella\, sateella emme aja.\nPoikkeuksena tiistai 10.6.2025 jolloin radalla on Kymi Cup harjoituskilpailu. \nKerhoillat on tarkoitettu lapsille ja heidän huoltajille yhteiseksi tapahtumaksi. \nVaatetus: pitkähihainen pusero\, pitkät housut / haalari\, hanskat ja nilkkaa suojaavat kengät\nKypärät löytyy radalta\, oman kypärän käyttö on sallittu. \nMaksut: kertamaksu per ilta 25 € / 20 € (LprUA jäsenet) – Käteis- ja korttimaksut mahdollisia\, sisältää vakuutuksen.\nHuoltajan on oltava ehdottomasti mukana!
URL:https://www.lprua.fi/tapahtuma/lasten-kerhoilta-2/2025-06-17/
LOCATION:Kimi Circuit\, Kimintie 130\, Lappeenranta\, 53400
CATEGORIES:karting
ATTACH;FMTTYPE=image/jpeg:https://www.lprua.fi/wp-content/uploads/2021/09/20210727_192025-scaled-e1716469614328.jpg
END:VEVENT
BEGIN:VEVENT
DTSTART;VALUE=DATE:20250623
DTEND;VALUE=DATE:20250624
DTSTAMP:20260420T044225
CREATED:20250426T064833Z
LAST-MODIFIED:20251030T185339Z
UID:10000147-1750636800-1750723199@www.lprua.fi
SUMMARY:Maanantaisin radalla ajavat moottoripyörät
DESCRIPTION:Maanantaisin radalla ajavat moottoripyörät\, päivän koordinointi LrMP:n kautta. \n 
URL:https://www.lprua.fi/tapahtuma/maanantaisin-radalla-ajavat-moottoripyorat/2025-06-23/
LOCATION:Kimi Circuit\, Kimintie 130\, Lappeenranta\, 53400
CATEGORIES:Moottoripyörät
ATTACH;FMTTYPE=image/png:https://www.lprua.fi/wp-content/uploads/2023/04/Supoermoto-e1721728712936.png
END:VEVENT
BEGIN:VEVENT
DTSTART;TZID=Europe/Helsinki:20250624T180000
DTEND;TZID=Europe/Helsinki:20250624T200000
DTSTAMP:20260420T044225
CREATED:20250528T091336Z
LAST-MODIFIED:20251030T185423Z
UID:10000218-1750788000-1750795200@www.lprua.fi
SUMMARY:Lasten kerhoilta
DESCRIPTION:Tervetuloa tutustumaan karting harrastukseen ja kokeilemaan karting autolla ajoa (noin 4 – 13 vuotiaat tytöt / pojat).\nRajoituksena kuljettajan tulee mahtua lasten karting autoon ja ylettyä polkimille.\nJaostolla useita erikokoisia autoja.\nKerhoillat tiistaisin klo 18 – 20 koko kesän ajan säävarauksella\, sateella emme aja.\nPoikkeuksena tiistai 10.6.2025 jolloin radalla on Kymi Cup harjoituskilpailu. \nKerhoillat on tarkoitettu lapsille ja heidän huoltajille yhteiseksi tapahtumaksi. \nVaatetus: pitkähihainen pusero\, pitkät housut / haalari\, hanskat ja nilkkaa suojaavat kengät\nKypärät löytyy radalta\, oman kypärän käyttö on sallittu. \nMaksut: kertamaksu per ilta 25 € / 20 € (LprUA jäsenet) – Käteis- ja korttimaksut mahdollisia\, sisältää vakuutuksen.\nHuoltajan on oltava ehdottomasti mukana!
URL:https://www.lprua.fi/tapahtuma/lasten-kerhoilta-2/2025-06-24/
LOCATION:Kimi Circuit\, Kimintie 130\, Lappeenranta\, 53400
CATEGORIES:karting
ATTACH;FMTTYPE=image/jpeg:https://www.lprua.fi/wp-content/uploads/2021/09/20210727_192025-scaled-e1716469614328.jpg
END:VEVENT
BEGIN:VEVENT
DTSTART;VALUE=DATE:20250630
DTEND;VALUE=DATE:20250701
DTSTAMP:20260420T044225
CREATED:20250426T064833Z
LAST-MODIFIED:20251030T185339Z
UID:10000148-1751241600-1751327999@www.lprua.fi
SUMMARY:Maanantaisin radalla ajavat moottoripyörät
DESCRIPTION:Maanantaisin radalla ajavat moottoripyörät\, päivän koordinointi LrMP:n kautta. \n 
URL:https://www.lprua.fi/tapahtuma/maanantaisin-radalla-ajavat-moottoripyorat/2025-06-30/
LOCATION:Kimi Circuit\, Kimintie 130\, Lappeenranta\, 53400
CATEGORIES:Moottoripyörät
ATTACH;FMTTYPE=image/png:https://www.lprua.fi/wp-content/uploads/2023/04/Supoermoto-e1721728712936.png
END:VEVENT
END:VCALENDAR