BEGIN:VCALENDAR
VERSION:2.0
PRODID:-//Lappeenrannan Urheiluautoilijat Ry - ECPv6.15.20//NONSGML v1.0//EN
CALSCALE:GREGORIAN
METHOD:PUBLISH
X-ORIGINAL-URL:https://www.lprua.fi
X-WR-CALDESC:Tapahtumat Lappeenrannan Urheiluautoilijat Ry
REFRESH-INTERVAL;VALUE=DURATION:PT1H
X-Robots-Tag:noindex
X-PUBLISHED-TTL:PT1H
BEGIN:VTIMEZONE
TZID:Europe/Helsinki
BEGIN:DAYLIGHT
TZOFFSETFROM:+0200
TZOFFSETTO:+0300
TZNAME:EEST
DTSTART:20230326T010000
END:DAYLIGHT
BEGIN:STANDARD
TZOFFSETFROM:+0300
TZOFFSETTO:+0200
TZNAME:EET
DTSTART:20231029T010000
END:STANDARD
BEGIN:DAYLIGHT
TZOFFSETFROM:+0200
TZOFFSETTO:+0300
TZNAME:EEST
DTSTART:20240331T010000
END:DAYLIGHT
BEGIN:STANDARD
TZOFFSETFROM:+0300
TZOFFSETTO:+0200
TZNAME:EET
DTSTART:20241027T010000
END:STANDARD
BEGIN:DAYLIGHT
TZOFFSETFROM:+0200
TZOFFSETTO:+0300
TZNAME:EEST
DTSTART:20250330T010000
END:DAYLIGHT
BEGIN:STANDARD
TZOFFSETFROM:+0300
TZOFFSETTO:+0200
TZNAME:EET
DTSTART:20251026T010000
END:STANDARD
END:VTIMEZONE
BEGIN:VEVENT
DTSTART;VALUE=DATE:20240722
DTEND;VALUE=DATE:20240723
DTSTAMP:20260421T073314
CREATED:20240723T095957Z
LAST-MODIFIED:20240723T101016Z
UID:10000118-1721606400-1721692799@www.lprua.fi
SUMMARY:Moottoripyörät radalla
DESCRIPTION:Ratamoottoripyörien ajopäivä
URL:https://www.lprua.fi/tapahtuma/moottoripyorat-radalla/2024-07-22/
LOCATION:Kimi Circuit\, Kimintie 130\, Lappeenranta\, 53400
CATEGORIES:Moottoripyörät
ATTACH;FMTTYPE=image/png:https://www.lprua.fi/wp-content/uploads/2023/04/Supoermoto-e1721728712936.png
END:VEVENT
BEGIN:VEVENT
DTSTART;TZID=Europe/Helsinki:20240723T180000
DTEND;TZID=Europe/Helsinki:20240723T200000
DTSTAMP:20260421T073314
CREATED:20240626T110507Z
LAST-MODIFIED:20240626T110637Z
UID:10000097-1721757600-1721764800@www.lprua.fi
SUMMARY:Lasten kerhoillat tiistaisin
DESCRIPTION:Lue tarkemmin lisää kerhotoiminta linkistä.
URL:https://www.lprua.fi/tapahtuma/lasten-kerhoillat-tiistaisin-2/2024-07-23/
LOCATION:Kimi Circuit\, Kimintie 130\, Lappeenranta\, 53400
CATEGORIES:karting
ATTACH;FMTTYPE=image/jpeg:https://www.lprua.fi/wp-content/uploads/2022/05/20190611_185730-2.jpg
END:VEVENT
END:VCALENDAR