BEGIN:VCALENDAR
VERSION:2.0
PRODID:-//Lappeenrannan Urheiluautoilijat Ry - ECPv6.15.20//NONSGML v1.0//EN
CALSCALE:GREGORIAN
METHOD:PUBLISH
X-WR-CALNAME:Lappeenrannan Urheiluautoilijat Ry
X-ORIGINAL-URL:https://www.lprua.fi
X-WR-CALDESC:Tapahtumat Lappeenrannan Urheiluautoilijat Ry
REFRESH-INTERVAL;VALUE=DURATION:PT1H
X-Robots-Tag:noindex
X-PUBLISHED-TTL:PT1H
BEGIN:VTIMEZONE
TZID:Europe/Helsinki
BEGIN:DAYLIGHT
TZOFFSETFROM:+0200
TZOFFSETTO:+0300
TZNAME:EEST
DTSTART:20240331T010000
END:DAYLIGHT
BEGIN:STANDARD
TZOFFSETFROM:+0300
TZOFFSETTO:+0200
TZNAME:EET
DTSTART:20241027T010000
END:STANDARD
BEGIN:DAYLIGHT
TZOFFSETFROM:+0200
TZOFFSETTO:+0300
TZNAME:EEST
DTSTART:20250330T010000
END:DAYLIGHT
BEGIN:STANDARD
TZOFFSETFROM:+0300
TZOFFSETTO:+0200
TZNAME:EET
DTSTART:20251026T010000
END:STANDARD
BEGIN:DAYLIGHT
TZOFFSETFROM:+0200
TZOFFSETTO:+0300
TZNAME:EEST
DTSTART:20260329T010000
END:DAYLIGHT
BEGIN:STANDARD
TZOFFSETFROM:+0300
TZOFFSETTO:+0200
TZNAME:EET
DTSTART:20261025T010000
END:STANDARD
END:VTIMEZONE
BEGIN:VEVENT
DTSTART;VALUE=DATE:20250609
DTEND;VALUE=DATE:20250610
DTSTAMP:20260420T081757
CREATED:20250426T064833Z
LAST-MODIFIED:20251030T185339Z
UID:10000145-1749427200-1749513599@www.lprua.fi
SUMMARY:Maanantaisin radalla ajavat moottoripyörät
DESCRIPTION:Maanantaisin radalla ajavat moottoripyörät\, päivän koordinointi LrMP:n kautta. \n 
URL:https://www.lprua.fi/tapahtuma/maanantaisin-radalla-ajavat-moottoripyorat/2025-06-09/
LOCATION:Kimi Circuit\, Kimintie 130\, Lappeenranta\, 53400
CATEGORIES:Moottoripyörät
ATTACH;FMTTYPE=image/png:https://www.lprua.fi/wp-content/uploads/2023/04/Supoermoto-e1721728712936.png
END:VEVENT
BEGIN:VEVENT
DTSTART;TZID=Europe/Helsinki:20250610T160000
DTEND;TZID=Europe/Helsinki:20250610T200000
DTSTAMP:20260420T081757
CREATED:20250528T074927Z
LAST-MODIFIED:20250528T140745Z
UID:10000215-1749571200-1749585600@www.lprua.fi
SUMMARY:Kymi Cup 2025 - Lappeenranta
DESCRIPTION:Kymi Cup 2025 sarjan avaus harjoituskilpailu
URL:https://www.lprua.fi/tapahtuma/kymi-cup-2025-lappeenranta/
LOCATION:Kimi Circuit\, Kimintie 130\, Lappeenranta\, 53400
CATEGORIES:karting,kilpailu
ATTACH;FMTTYPE=image/jpeg:https://www.lprua.fi/wp-content/uploads/2022/06/KymiCup-vari.jpg
END:VEVENT
BEGIN:VEVENT
DTSTART;TZID=Europe/Helsinki:20250613T080000
DTEND;TZID=Europe/Helsinki:20250615T170000
DTSTAMP:20260420T081757
CREATED:20250528T140408Z
LAST-MODIFIED:20250528T140714Z
UID:10000281-1749801600-1750006800@www.lprua.fi
SUMMARY:Flying Finn Juniori Cup
DESCRIPTION:Valtakunnallisen Flying Finn Juniori Cupin osakilpailut Kimi Circuitilla.\nKilpailu on samalla Karting liiton mestaruuskilpailun osakilpailu. \nKilpailuluokat\nCadet\, 6v ylöspäin\nMicro\, 8-11v\nRaket\, 10-15v \n 
URL:https://www.lprua.fi/tapahtuma/flying-finn-juniori-cup/
LOCATION:Kimi Circuit\, Kimintie 130\, Lappeenranta\, 53400
CATEGORIES:karting,kilpailu
ATTACH;FMTTYPE=image/jpeg:https://www.lprua.fi/wp-content/uploads/2025/05/ff-logo_final_2-1.jpg
END:VEVENT
END:VCALENDAR