BEGIN:VCALENDAR
VERSION:2.0
PRODID:-//Lappeenrannan Urheiluautoilijat Ry - ECPv6.15.20//NONSGML v1.0//EN
CALSCALE:GREGORIAN
METHOD:PUBLISH
X-ORIGINAL-URL:https://www.lprua.fi
X-WR-CALDESC:Tapahtumat Lappeenrannan Urheiluautoilijat Ry
REFRESH-INTERVAL;VALUE=DURATION:PT1H
X-Robots-Tag:noindex
X-PUBLISHED-TTL:PT1H
BEGIN:VTIMEZONE
TZID:Europe/Helsinki
BEGIN:DAYLIGHT
TZOFFSETFROM:+0200
TZOFFSETTO:+0300
TZNAME:EEST
DTSTART:20240331T010000
END:DAYLIGHT
BEGIN:STANDARD
TZOFFSETFROM:+0300
TZOFFSETTO:+0200
TZNAME:EET
DTSTART:20241027T010000
END:STANDARD
BEGIN:DAYLIGHT
TZOFFSETFROM:+0200
TZOFFSETTO:+0300
TZNAME:EEST
DTSTART:20250330T010000
END:DAYLIGHT
BEGIN:STANDARD
TZOFFSETFROM:+0300
TZOFFSETTO:+0200
TZNAME:EET
DTSTART:20251026T010000
END:STANDARD
BEGIN:DAYLIGHT
TZOFFSETFROM:+0200
TZOFFSETTO:+0300
TZNAME:EEST
DTSTART:20260329T010000
END:DAYLIGHT
BEGIN:STANDARD
TZOFFSETFROM:+0300
TZOFFSETTO:+0200
TZNAME:EET
DTSTART:20261025T010000
END:STANDARD
END:VTIMEZONE
BEGIN:VEVENT
DTSTART;VALUE=DATE:20250721
DTEND;VALUE=DATE:20250722
DTSTAMP:20260420T101129
CREATED:20250426T064833Z
LAST-MODIFIED:20251030T185339Z
UID:10000151-1753056000-1753142399@www.lprua.fi
SUMMARY:Maanantaisin radalla ajavat moottoripyörät
DESCRIPTION:Maanantaisin radalla ajavat moottoripyörät\, päivän koordinointi LrMP:n kautta. \n 
URL:https://www.lprua.fi/tapahtuma/maanantaisin-radalla-ajavat-moottoripyorat/2025-07-21/
LOCATION:Kimi Circuit\, Kimintie 130\, Lappeenranta\, 53400
CATEGORIES:Moottoripyörät
ATTACH;FMTTYPE=image/png:https://www.lprua.fi/wp-content/uploads/2023/04/Supoermoto-e1721728712936.png
END:VEVENT
BEGIN:VEVENT
DTSTART;TZID=Europe/Helsinki:20250722T180000
DTEND;TZID=Europe/Helsinki:20250722T200000
DTSTAMP:20260420T101129
CREATED:20250528T091336Z
LAST-MODIFIED:20251030T185423Z
UID:10000222-1753207200-1753214400@www.lprua.fi
SUMMARY:Lasten kerhoilta
DESCRIPTION:Tervetuloa tutustumaan karting harrastukseen ja kokeilemaan karting autolla ajoa (noin 4 – 13 vuotiaat tytöt / pojat).\nRajoituksena kuljettajan tulee mahtua lasten karting autoon ja ylettyä polkimille.\nJaostolla useita erikokoisia autoja.\nKerhoillat tiistaisin klo 18 – 20 koko kesän ajan säävarauksella\, sateella emme aja.\nPoikkeuksena tiistai 10.6.2025 jolloin radalla on Kymi Cup harjoituskilpailu. \nKerhoillat on tarkoitettu lapsille ja heidän huoltajille yhteiseksi tapahtumaksi. \nVaatetus: pitkähihainen pusero\, pitkät housut / haalari\, hanskat ja nilkkaa suojaavat kengät\nKypärät löytyy radalta\, oman kypärän käyttö on sallittu. \nMaksut: kertamaksu per ilta 25 € / 20 € (LprUA jäsenet) – Käteis- ja korttimaksut mahdollisia\, sisältää vakuutuksen.\nHuoltajan on oltava ehdottomasti mukana!
URL:https://www.lprua.fi/tapahtuma/lasten-kerhoilta-2/2025-07-22/
LOCATION:Kimi Circuit\, Kimintie 130\, Lappeenranta\, 53400
CATEGORIES:karting
ATTACH;FMTTYPE=image/jpeg:https://www.lprua.fi/wp-content/uploads/2021/09/20210727_192025-scaled-e1716469614328.jpg
END:VEVENT
END:VCALENDAR